BEGIN:VCALENDAR
VERSION:2.0
PRODID:-//AREX - ECPv6.15.18//NONSGML v1.0//EN
CALSCALE:GREGORIAN
METHOD:PUBLISH
X-ORIGINAL-URL:https://www.aragonexterior.es
X-WR-CALDESC:Eventos para AREX
REFRESH-INTERVAL;VALUE=DURATION:PT1H
X-Robots-Tag:noindex
X-PUBLISHED-TTL:PT1H
BEGIN:VTIMEZONE
TZID:Europe/Madrid
BEGIN:DAYLIGHT
TZOFFSETFROM:+0100
TZOFFSETTO:+0200
TZNAME:CEST
DTSTART:20220327T010000
END:DAYLIGHT
BEGIN:STANDARD
TZOFFSETFROM:+0200
TZOFFSETTO:+0100
TZNAME:CET
DTSTART:20221030T010000
END:STANDARD
BEGIN:DAYLIGHT
TZOFFSETFROM:+0100
TZOFFSETTO:+0200
TZNAME:CEST
DTSTART:20230326T010000
END:DAYLIGHT
BEGIN:STANDARD
TZOFFSETFROM:+0200
TZOFFSETTO:+0100
TZNAME:CET
DTSTART:20231029T010000
END:STANDARD
BEGIN:DAYLIGHT
TZOFFSETFROM:+0100
TZOFFSETTO:+0200
TZNAME:CEST
DTSTART:20240331T010000
END:DAYLIGHT
BEGIN:STANDARD
TZOFFSETFROM:+0200
TZOFFSETTO:+0100
TZNAME:CET
DTSTART:20241027T010000
END:STANDARD
END:VTIMEZONE
BEGIN:VEVENT
DTSTART;VALUE=DATE:20230201
DTEND;VALUE=DATE:20230202
DTSTAMP:20260422T161300
CREATED:20231120T132712Z
LAST-MODIFIED:20231215T122003Z
UID:10000207-1675209600-1675295999@www.aragonexterior.es
SUMMARY:5 mercados para 2023: Sudeste Asiático (Indonesia\, Singapur\, Malasia)
DESCRIPTION:< Volver al calendario de actividades				\n				\n					\n		\n					\n		\n				\n						\n					\n			\n						\n						\n					\n			\n						\n				\n					\n	\n		\n\n				Spanish Wine&Food Day Kazajistán 2026	\n\n\n		\n	\n		Vinexpo Hong Kong 2026			\n\n	\n\n				\n				\n					\n		\n					\n		\n					\n		\n					\n		\n				\n						\n					\n			\n						\n						\n					\n			\n						\n				\n					\n		\n		Reuniones con Expertos	\n\n				\n				\n				\n				\n					\n	Reuniones individuales: República Dominicana				\n				\n				\n				\n					Experto AREX:				\n				\n				\n				\n					Jorge Méndez\, CEO de Global Caribe				\n				\n				\n				\n					Lugar:				\n				\n				\n				\n					Oficinas AREX\, Zaragoza				\n				\n				\n				\n					Fechas:				\n				\n				\n				\n					\n		\n			25/05\n\n	\n\n	  @  \n\n\n10:30\n\n		\n\n\n\n	\n	  -  \n\n18:00\n\n\n\n	\n				\n				\n				\n						\n					\n			\n						\n				\n									\n					\n						\n									Enviar email\n					\n					\n				\n								\n				\n					\n		\n				\n			\n						\n				\n									\n					\n						\n									Inscripción\n					\n					\n				\n								\n				\n					\n		\n					\n		\n					\n		\n				\n			\n						\n				\n					\n	\n				\n				\n					\n		\n					\n		\n					\n		\n					\n		\n				\n						\n					\n			\n						\n				\n					Reuniones individuales con delegados AREX:				\n				\n				\n				\n					República Dominicana				\n				\n				\n				\n					Asesoramiento gratuito para empresas aragonesas que ya venden enen mercado dominicano o están interesadas en abrirlo.				\n				\n				\n						\n					\n			\n						\n				\n																														\n				\n					\n		\n				\n			\n						\n				\n					Experto AREX:				\n				\n				\n				\n					Jorge Méndez				\n				\n				\n				\n									CEO de Global Caribe 								\n				\n				\n				\n									\n					\n						\n						\n							\n									Concierta tu reunión\n					\n					\n				\n								\n				\n					\n		\n					\n		\n				\n				\n					Infórmate de primera mano sobre los mercados internacionales con los expertos AREX
URL:https://www.aragonexterior.es/event/5-mercados-para-2023-sudeste-asiatico-indonesia-singapur-malasia/
LOCATION:Zoom conexión online
CATEGORIES:Reuniones con Expertos
ATTACH;FMTTYPE=image/png:https://www.aragonexterior.es/wp-content/uploads/2023/11/W-Banner-horizontal-Indonesia-e1702642793295.png
ORGANIZER;CN="Katharina Mormann":MAILTO:km@aragonexterior.es
END:VEVENT
BEGIN:VEVENT
DTSTART;VALUE=DATE:20230208
DTEND;VALUE=DATE:20230209
DTSTAMP:20260422T161300
CREATED:20231120T132724Z
LAST-MODIFIED:20231215T122944Z
UID:10000212-1675814400-1675900799@www.aragonexterior.es
SUMMARY:Reuniones individuales: Ecuador
DESCRIPTION:< Volver al calendario de actividades				\n				\n					\n		\n					\n		\n				\n						\n					\n			\n						\n						\n					\n			\n						\n				\n					\n	\n		\n\n				Spanish Wine&Food Day Kazajistán 2026	\n\n\n		\n	\n		Vinexpo Hong Kong 2026			\n\n	\n\n				\n				\n					\n		\n					\n		\n					\n		\n					\n		\n				\n						\n					\n			\n						\n						\n					\n			\n						\n				\n					\n		\n		Reuniones con Expertos	\n\n				\n				\n				\n				\n					\n	Reuniones individuales: República Dominicana				\n				\n				\n				\n					Experto AREX:				\n				\n				\n				\n					Jorge Méndez\, CEO de Global Caribe				\n				\n				\n				\n					Lugar:				\n				\n				\n				\n					Oficinas AREX\, Zaragoza				\n				\n				\n				\n					Fechas:				\n				\n				\n				\n					\n		\n			25/05\n\n	\n\n	  @  \n\n\n10:30\n\n		\n\n\n\n	\n	  -  \n\n18:00\n\n\n\n	\n				\n				\n				\n						\n					\n			\n						\n				\n									\n					\n						\n									Enviar email\n					\n					\n				\n								\n				\n					\n		\n				\n			\n						\n				\n									\n					\n						\n									Inscripción\n					\n					\n				\n								\n				\n					\n		\n					\n		\n					\n		\n				\n			\n						\n				\n					\n	\n				\n				\n					\n		\n					\n		\n					\n		\n					\n		\n				\n						\n					\n			\n						\n				\n					Reuniones individuales con delegados AREX:				\n				\n				\n				\n					República Dominicana				\n				\n				\n				\n					Asesoramiento gratuito para empresas aragonesas que ya venden enen mercado dominicano o están interesadas en abrirlo.				\n				\n				\n						\n					\n			\n						\n				\n																														\n				\n					\n		\n				\n			\n						\n				\n					Experto AREX:				\n				\n				\n				\n					Jorge Méndez				\n				\n				\n				\n									CEO de Global Caribe 								\n				\n				\n				\n									\n					\n						\n						\n							\n									Concierta tu reunión\n					\n					\n				\n								\n				\n					\n		\n					\n		\n				\n				\n					Infórmate de primera mano sobre los mercados internacionales con los expertos AREX
URL:https://www.aragonexterior.es/event/reuniones-individuales-ecuador/
LOCATION:AREX\, Avenida Ranillas 3A\, Zaragoza
CATEGORIES:Reuniones con Expertos
ATTACH;FMTTYPE=image/png:https://www.aragonexterior.es/wp-content/uploads/2023/11/W-Banner-horizontal-Ecuador-e1702643373125.png
ORGANIZER;CN="Katharina Mormann":MAILTO:km@aragonexterior.es
END:VEVENT
BEGIN:VEVENT
DTSTART;VALUE=DATE:20230222
DTEND;VALUE=DATE:20230223
DTSTAMP:20260422T161300
CREATED:20231120T132724Z
LAST-MODIFIED:20231215T121502Z
UID:10000213-1677024000-1677110399@www.aragonexterior.es
SUMMARY:Reuniones individuales: Corea del Sur
DESCRIPTION:< Volver al calendario de actividades				\n				\n					\n		\n					\n		\n				\n						\n					\n			\n						\n						\n					\n			\n						\n				\n					\n	\n		\n\n				Spanish Wine&Food Day Kazajistán 2026	\n\n\n		\n	\n		Vinexpo Hong Kong 2026			\n\n	\n\n				\n				\n					\n		\n					\n		\n					\n		\n					\n		\n				\n						\n					\n			\n						\n						\n					\n			\n						\n				\n					\n		\n		Reuniones con Expertos	\n\n				\n				\n				\n				\n					\n	Reuniones individuales: República Dominicana				\n				\n				\n				\n					Experto AREX:				\n				\n				\n				\n					Jorge Méndez\, CEO de Global Caribe				\n				\n				\n				\n					Lugar:				\n				\n				\n				\n					Oficinas AREX\, Zaragoza				\n				\n				\n				\n					Fechas:				\n				\n				\n				\n					\n		\n			25/05\n\n	\n\n	  @  \n\n\n10:30\n\n		\n\n\n\n	\n	  -  \n\n18:00\n\n\n\n	\n				\n				\n				\n						\n					\n			\n						\n				\n									\n					\n						\n									Enviar email\n					\n					\n				\n								\n				\n					\n		\n				\n			\n						\n				\n									\n					\n						\n									Inscripción\n					\n					\n				\n								\n				\n					\n		\n					\n		\n					\n		\n				\n			\n						\n				\n					\n	\n				\n				\n					\n		\n					\n		\n					\n		\n					\n		\n				\n						\n					\n			\n						\n				\n					Reuniones individuales con delegados AREX:				\n				\n				\n				\n					República Dominicana				\n				\n				\n				\n					Asesoramiento gratuito para empresas aragonesas que ya venden enen mercado dominicano o están interesadas en abrirlo.				\n				\n				\n						\n					\n			\n						\n				\n																														\n				\n					\n		\n				\n			\n						\n				\n					Experto AREX:				\n				\n				\n				\n					Jorge Méndez				\n				\n				\n				\n									CEO de Global Caribe 								\n				\n				\n				\n									\n					\n						\n						\n							\n									Concierta tu reunión\n					\n					\n				\n								\n				\n					\n		\n					\n		\n				\n				\n					Infórmate de primera mano sobre los mercados internacionales con los expertos AREX
URL:https://www.aragonexterior.es/event/reuniones-individuales-corea-del-sur/
CATEGORIES:Reuniones con Expertos
END:VEVENT
END:VCALENDAR