BEGIN:VCALENDAR
VERSION:2.0
PRODID:-//AREX - ECPv6.15.18//NONSGML v1.0//EN
CALSCALE:GREGORIAN
METHOD:PUBLISH
X-ORIGINAL-URL:https://www.aragonexterior.es
X-WR-CALDESC:Eventos para AREX
REFRESH-INTERVAL;VALUE=DURATION:PT1H
X-Robots-Tag:noindex
X-PUBLISHED-TTL:PT1H
BEGIN:VTIMEZONE
TZID:Europe/Madrid
BEGIN:DAYLIGHT
TZOFFSETFROM:+0100
TZOFFSETTO:+0200
TZNAME:CEST
DTSTART:20220327T010000
END:DAYLIGHT
BEGIN:STANDARD
TZOFFSETFROM:+0200
TZOFFSETTO:+0100
TZNAME:CET
DTSTART:20221030T010000
END:STANDARD
BEGIN:DAYLIGHT
TZOFFSETFROM:+0100
TZOFFSETTO:+0200
TZNAME:CEST
DTSTART:20230326T010000
END:DAYLIGHT
BEGIN:STANDARD
TZOFFSETFROM:+0200
TZOFFSETTO:+0100
TZNAME:CET
DTSTART:20231029T010000
END:STANDARD
BEGIN:DAYLIGHT
TZOFFSETFROM:+0100
TZOFFSETTO:+0200
TZNAME:CEST
DTSTART:20240331T010000
END:DAYLIGHT
BEGIN:STANDARD
TZOFFSETFROM:+0200
TZOFFSETTO:+0100
TZNAME:CET
DTSTART:20241027T010000
END:STANDARD
END:VTIMEZONE
BEGIN:VEVENT
DTSTART;VALUE=DATE:20230516
DTEND;VALUE=DATE:20230517
DTSTAMP:20260422T112244
CREATED:20231120T132745Z
LAST-MODIFIED:20231214T123522Z
UID:10000228-1684195200-1684281599@www.aragonexterior.es
SUMMARY:Reuniones individuales: Israel
DESCRIPTION:< Volver al calendario de actividades				\n				\n					\n		\n					\n		\n				\n						\n					\n			\n						\n						\n					\n			\n						\n				\n					\n	\n		\n\n				Spanish Wine&Food Day Kazajistán 2026	\n\n\n		\n	\n		Vinexpo Hong Kong 2026			\n\n	\n\n				\n				\n					\n		\n					\n		\n					\n		\n					\n		\n				\n						\n					\n			\n						\n						\n					\n			\n						\n				\n					\n		\n		Reuniones con Expertos	\n\n				\n				\n				\n				\n					\n	Reuniones individuales: República Dominicana				\n				\n				\n				\n					Experto AREX:				\n				\n				\n				\n					Jorge Méndez\, CEO de Global Caribe				\n				\n				\n				\n					Lugar:				\n				\n				\n				\n					Oficinas AREX\, Zaragoza				\n				\n				\n				\n					Fechas:				\n				\n				\n				\n					\n		\n			25/05\n\n	\n\n	  @  \n\n\n10:30\n\n		\n\n\n\n	\n	  -  \n\n18:00\n\n\n\n	\n				\n				\n				\n						\n					\n			\n						\n				\n									\n					\n						\n									Enviar email\n					\n					\n				\n								\n				\n					\n		\n				\n			\n						\n				\n									\n					\n						\n									Inscripción\n					\n					\n				\n								\n				\n					\n		\n					\n		\n					\n		\n				\n			\n						\n				\n					\n	\n				\n				\n					\n		\n					\n		\n					\n		\n					\n		\n				\n						\n					\n			\n						\n				\n					Reuniones individuales con delegados AREX:				\n				\n				\n				\n					República Dominicana				\n				\n				\n				\n					Asesoramiento gratuito para empresas aragonesas que ya venden enen mercado dominicano o están interesadas en abrirlo.				\n				\n				\n						\n					\n			\n						\n				\n																														\n				\n					\n		\n				\n			\n						\n				\n					Experto AREX:				\n				\n				\n				\n					Jorge Méndez				\n				\n				\n				\n									CEO de Global Caribe 								\n				\n				\n				\n									\n					\n						\n						\n							\n									Concierta tu reunión\n					\n					\n				\n								\n				\n					\n		\n					\n		\n				\n				\n					Infórmate de primera mano sobre los mercados internacionales con los expertos AREX
URL:https://www.aragonexterior.es/event/reuniones-individuales-israel/
LOCATION:Zoom conexión online
CATEGORIES:Reuniones con Expertos
ATTACH;FMTTYPE=image/png:https://www.aragonexterior.es/wp-content/uploads/2023/11/W-Banner-horizontal-israel-e1702557312892.png
ORGANIZER;CN="Katharina Mormann":MAILTO:km@aragonexterior.es
END:VEVENT
BEGIN:VEVENT
DTSTART;VALUE=DATE:20230518
DTEND;VALUE=DATE:20230519
DTSTAMP:20260422T112244
CREATED:20231120T132745Z
LAST-MODIFIED:20231214T123834Z
UID:10000227-1684368000-1684454399@www.aragonexterior.es
SUMMARY:Reuniones individuales: Egipto
DESCRIPTION:< Volver al calendario de actividades				\n				\n					\n		\n					\n		\n				\n						\n					\n			\n						\n						\n					\n			\n						\n				\n					\n	\n		\n\n				Spanish Wine&Food Day Kazajistán 2026	\n\n\n		\n	\n		Vinexpo Hong Kong 2026			\n\n	\n\n				\n				\n					\n		\n					\n		\n					\n		\n					\n		\n				\n						\n					\n			\n						\n						\n					\n			\n						\n				\n					\n		\n		Reuniones con Expertos	\n\n				\n				\n				\n				\n					\n	Reuniones individuales: República Dominicana				\n				\n				\n				\n					Experto AREX:				\n				\n				\n				\n					Jorge Méndez\, CEO de Global Caribe				\n				\n				\n				\n					Lugar:				\n				\n				\n				\n					Oficinas AREX\, Zaragoza				\n				\n				\n				\n					Fechas:				\n				\n				\n				\n					\n		\n			25/05\n\n	\n\n	  @  \n\n\n10:30\n\n		\n\n\n\n	\n	  -  \n\n18:00\n\n\n\n	\n				\n				\n				\n						\n					\n			\n						\n				\n									\n					\n						\n									Enviar email\n					\n					\n				\n								\n				\n					\n		\n				\n			\n						\n				\n									\n					\n						\n									Inscripción\n					\n					\n				\n								\n				\n					\n		\n					\n		\n					\n		\n				\n			\n						\n				\n					\n	\n				\n				\n					\n		\n					\n		\n					\n		\n					\n		\n				\n						\n					\n			\n						\n				\n					Reuniones individuales con delegados AREX:				\n				\n				\n				\n					República Dominicana				\n				\n				\n				\n					Asesoramiento gratuito para empresas aragonesas que ya venden enen mercado dominicano o están interesadas en abrirlo.				\n				\n				\n						\n					\n			\n						\n				\n																														\n				\n					\n		\n				\n			\n						\n				\n					Experto AREX:				\n				\n				\n				\n					Jorge Méndez				\n				\n				\n				\n									CEO de Global Caribe 								\n				\n				\n				\n									\n					\n						\n						\n							\n									Concierta tu reunión\n					\n					\n				\n								\n				\n					\n		\n					\n		\n				\n				\n					Infórmate de primera mano sobre los mercados internacionales con los expertos AREX
URL:https://www.aragonexterior.es/event/reuniones-individuales-egipto/
LOCATION:Zoom conexión online
CATEGORIES:Reuniones con Expertos
ATTACH;FMTTYPE=image/png:https://www.aragonexterior.es/wp-content/uploads/2023/11/W-Banner-horizontal-egipto-e1702557480655.png
ORGANIZER;CN="Katharina Mormann":MAILTO:km@aragonexterior.es
END:VEVENT
BEGIN:VEVENT
DTSTART;TZID=Europe/Madrid:20230523T000000
DTEND;TZID=Europe/Madrid:20230523T000000
DTSTAMP:20260422T112244
CREATED:20231120T132758Z
LAST-MODIFIED:20231214T124823Z
UID:10000231-1684800000-1684800000@www.aragonexterior.es
SUMMARY:Reuniones individuales: Turquía
DESCRIPTION:< Volver al calendario de actividades				\n				\n					\n		\n					\n		\n				\n						\n					\n			\n						\n						\n					\n			\n						\n				\n					\n	\n		\n\n				Spanish Wine&Food Day Kazajistán 2026	\n\n\n		\n	\n		Vinexpo Hong Kong 2026			\n\n	\n\n				\n				\n					\n		\n					\n		\n					\n		\n					\n		\n				\n						\n					\n			\n						\n						\n					\n			\n						\n				\n					\n		\n		Reuniones con Expertos	\n\n				\n				\n				\n				\n					\n	Reuniones individuales: República Dominicana				\n				\n				\n				\n					Experto AREX:				\n				\n				\n				\n					Jorge Méndez\, CEO de Global Caribe				\n				\n				\n				\n					Lugar:				\n				\n				\n				\n					Oficinas AREX\, Zaragoza				\n				\n				\n				\n					Fechas:				\n				\n				\n				\n					\n		\n			25/05\n\n	\n\n	  @  \n\n\n10:30\n\n		\n\n\n\n	\n	  -  \n\n18:00\n\n\n\n	\n				\n				\n				\n						\n					\n			\n						\n				\n									\n					\n						\n									Enviar email\n					\n					\n				\n								\n				\n					\n		\n				\n			\n						\n				\n									\n					\n						\n									Inscripción\n					\n					\n				\n								\n				\n					\n		\n					\n		\n					\n		\n				\n			\n						\n				\n					\n	\n				\n				\n					\n		\n					\n		\n					\n		\n					\n		\n				\n						\n					\n			\n						\n				\n					Reuniones individuales con delegados AREX:				\n				\n				\n				\n					República Dominicana				\n				\n				\n				\n					Asesoramiento gratuito para empresas aragonesas que ya venden enen mercado dominicano o están interesadas en abrirlo.				\n				\n				\n						\n					\n			\n						\n				\n																														\n				\n					\n		\n				\n			\n						\n				\n					Experto AREX:				\n				\n				\n				\n					Jorge Méndez				\n				\n				\n				\n									CEO de Global Caribe 								\n				\n				\n				\n									\n					\n						\n						\n							\n									Concierta tu reunión\n					\n					\n				\n								\n				\n					\n		\n					\n		\n				\n				\n					Infórmate de primera mano sobre los mercados internacionales con los expertos AREX
URL:https://www.aragonexterior.es/event/reuniones-individuales-turquia/
LOCATION:Zoom conexión online
CATEGORIES:Reuniones con Expertos
ATTACH;FMTTYPE=image/png:https://www.aragonexterior.es/wp-content/uploads/2023/11/W-Banner-horizontal-turquia-e1702558091781.png
ORGANIZER;CN="Katharina Mormann":MAILTO:km@aragonexterior.es
END:VEVENT
END:VCALENDAR