BEGIN:VCALENDAR
VERSION:2.0
PRODID:-//AREX - ECPv6.15.18//NONSGML v1.0//EN
CALSCALE:GREGORIAN
METHOD:PUBLISH
X-ORIGINAL-URL:https://www.aragonexterior.es
X-WR-CALDESC:Eventos para AREX
REFRESH-INTERVAL;VALUE=DURATION:PT1H
X-Robots-Tag:noindex
X-PUBLISHED-TTL:PT1H
BEGIN:VTIMEZONE
TZID:Europe/Madrid
BEGIN:DAYLIGHT
TZOFFSETFROM:+0100
TZOFFSETTO:+0200
TZNAME:CEST
DTSTART:20230326T010000
END:DAYLIGHT
BEGIN:STANDARD
TZOFFSETFROM:+0200
TZOFFSETTO:+0100
TZNAME:CET
DTSTART:20231029T010000
END:STANDARD
BEGIN:DAYLIGHT
TZOFFSETFROM:+0100
TZOFFSETTO:+0200
TZNAME:CEST
DTSTART:20240331T010000
END:DAYLIGHT
BEGIN:STANDARD
TZOFFSETFROM:+0200
TZOFFSETTO:+0100
TZNAME:CET
DTSTART:20241027T010000
END:STANDARD
BEGIN:DAYLIGHT
TZOFFSETFROM:+0100
TZOFFSETTO:+0200
TZNAME:CEST
DTSTART:20250330T010000
END:DAYLIGHT
BEGIN:STANDARD
TZOFFSETFROM:+0200
TZOFFSETTO:+0100
TZNAME:CET
DTSTART:20251026T010000
END:STANDARD
END:VTIMEZONE
BEGIN:VEVENT
DTSTART;VALUE=DATE:20240709
DTEND;VALUE=DATE:20240710
DTSTAMP:20260421T150351
CREATED:20240619T074828Z
LAST-MODIFIED:20240619T125030Z
UID:10000453-1720483200-1720569599@www.aragonexterior.es
SUMMARY:Reuniones individuales: República Dominicana
DESCRIPTION:< Volver al calendario de actividades				\n				\n					\n		\n					\n		\n				\n						\n					\n			\n						\n						\n					\n			\n						\n				\n					\n	\n		\n\n				Spanish Wine&Food Day Kazajistán 2026	\n\n\n		\n	\n		Vinexpo Hong Kong 2026			\n\n	\n\n				\n				\n					\n		\n					\n		\n					\n		\n					\n		\n				\n						\n					\n			\n						\n						\n					\n			\n						\n				\n					\n		\n		Reuniones con Expertos	\n\n				\n				\n				\n				\n					\n	Reuniones individuales: República Dominicana				\n				\n				\n				\n					Experto AREX:				\n				\n				\n				\n					Jorge Méndez\, CEO de Global Caribe				\n				\n				\n				\n					Lugar:				\n				\n				\n				\n					Oficinas AREX\, Zaragoza				\n				\n				\n				\n					Fechas:				\n				\n				\n				\n					\n		\n			25/05\n\n	\n\n	  @  \n\n\n10:30\n\n		\n\n\n\n	\n	  -  \n\n18:00\n\n\n\n	\n				\n				\n				\n						\n					\n			\n						\n				\n									\n					\n						\n									Enviar email\n					\n					\n				\n								\n				\n					\n		\n				\n			\n						\n				\n									\n					\n						\n									Inscripción\n					\n					\n				\n								\n				\n					\n		\n					\n		\n					\n		\n				\n			\n						\n				\n					\n	\n				\n				\n					\n		\n					\n		\n					\n		\n					\n		\n				\n						\n					\n			\n						\n				\n					Reuniones individuales con delegados AREX:				\n				\n				\n				\n					República Dominicana				\n				\n				\n				\n					Asesoramiento gratuito para empresas aragonesas que ya venden enen mercado dominicano o están interesadas en abrirlo.				\n				\n				\n						\n					\n			\n						\n				\n																														\n				\n					\n		\n				\n			\n						\n				\n					Experto AREX:				\n				\n				\n				\n					Jorge Méndez				\n				\n				\n				\n									CEO de Global Caribe 								\n				\n				\n				\n									\n					\n						\n						\n							\n									Concierta tu reunión\n					\n					\n				\n								\n				\n					\n		\n					\n		\n				\n				\n					Infórmate de primera mano sobre los mercados internacionales con los expertos AREX
URL:https://www.aragonexterior.es/event/reuniones-individuales-republica-dominicana-3/
CATEGORIES:Reuniones con Expertos
ATTACH;FMTTYPE=image/png:https://www.aragonexterior.es/wp-content/uploads/2024/06/IMAGEN-DESTACADA-17.png
ORGANIZER;CN="Katharina Mormann":MAILTO:km@aragonexterior.es
END:VEVENT
BEGIN:VEVENT
DTSTART;VALUE=DATE:20240710
DTEND;VALUE=DATE:20240711
DTSTAMP:20260421T150351
CREATED:20240619T075904Z
LAST-MODIFIED:20240626T092851Z
UID:10000454-1720569600-1720655999@www.aragonexterior.es
SUMMARY:Reuniones individuales: América Central y Puerto Rico
DESCRIPTION:< Volver al calendario de actividades				\n				\n					\n		\n					\n		\n				\n						\n					\n			\n						\n						\n					\n			\n						\n				\n					\n	\n		\n\n				Spanish Wine&Food Day Kazajistán 2026	\n\n\n		\n	\n		Vinexpo Hong Kong 2026			\n\n	\n\n				\n				\n					\n		\n					\n		\n					\n		\n					\n		\n				\n						\n					\n			\n						\n						\n					\n			\n						\n				\n					\n		\n		Reuniones con Expertos	\n\n				\n				\n				\n				\n					\n	Reuniones individuales: República Dominicana				\n				\n				\n				\n					Experto AREX:				\n				\n				\n				\n					Jorge Méndez\, CEO de Global Caribe				\n				\n				\n				\n					Lugar:				\n				\n				\n				\n					Oficinas AREX\, Zaragoza				\n				\n				\n				\n					Fechas:				\n				\n				\n				\n					\n		\n			25/05\n\n	\n\n	  @  \n\n\n10:30\n\n		\n\n\n\n	\n	  -  \n\n18:00\n\n\n\n	\n				\n				\n				\n						\n					\n			\n						\n				\n									\n					\n						\n									Enviar email\n					\n					\n				\n								\n				\n					\n		\n				\n			\n						\n				\n									\n					\n						\n									Inscripción\n					\n					\n				\n								\n				\n					\n		\n					\n		\n					\n		\n				\n			\n						\n				\n					\n	\n				\n				\n					\n		\n					\n		\n					\n		\n					\n		\n				\n						\n					\n			\n						\n				\n					Reuniones individuales con delegados AREX:				\n				\n				\n				\n					República Dominicana				\n				\n				\n				\n					Asesoramiento gratuito para empresas aragonesas que ya venden enen mercado dominicano o están interesadas en abrirlo.				\n				\n				\n						\n					\n			\n						\n				\n																														\n				\n					\n		\n				\n			\n						\n				\n					Experto AREX:				\n				\n				\n				\n					Jorge Méndez				\n				\n				\n				\n									CEO de Global Caribe 								\n				\n				\n				\n									\n					\n						\n						\n							\n									Concierta tu reunión\n					\n					\n				\n								\n				\n					\n		\n					\n		\n				\n				\n					Infórmate de primera mano sobre los mercados internacionales con los expertos AREX
URL:https://www.aragonexterior.es/event/reuniones-individuales-america-central-y-puerto-rico/
CATEGORIES:Reuniones con Expertos
ATTACH;FMTTYPE=image/png:https://www.aragonexterior.es/wp-content/uploads/2024/06/IMAGEN-DESTACADA-18.png
ORGANIZER;CN="Katharina Mormann":MAILTO:km@aragonexterior.es
END:VEVENT
BEGIN:VEVENT
DTSTART;VALUE=DATE:20240711
DTEND;VALUE=DATE:20240712
DTSTAMP:20260421T150351
CREATED:20240619T080959Z
LAST-MODIFIED:20240626T100255Z
UID:10000455-1720656000-1720742399@www.aragonexterior.es
SUMMARY:Reuniones individuales: Caribe anglófono
DESCRIPTION:< Volver al calendario de actividades				\n				\n					\n		\n					\n		\n				\n						\n					\n			\n						\n						\n					\n			\n						\n				\n					\n	\n		\n\n				Spanish Wine&Food Day Kazajistán 2026	\n\n\n		\n	\n		Vinexpo Hong Kong 2026			\n\n	\n\n				\n				\n					\n		\n					\n		\n					\n		\n					\n		\n				\n						\n					\n			\n						\n						\n					\n			\n						\n				\n					\n		\n		Reuniones con Expertos	\n\n				\n				\n				\n				\n					\n	Reuniones individuales: República Dominicana				\n				\n				\n				\n					Experto AREX:				\n				\n				\n				\n					Jorge Méndez\, CEO de Global Caribe				\n				\n				\n				\n					Lugar:				\n				\n				\n				\n					Oficinas AREX\, Zaragoza				\n				\n				\n				\n					Fechas:				\n				\n				\n				\n					\n		\n			25/05\n\n	\n\n	  @  \n\n\n10:30\n\n		\n\n\n\n	\n	  -  \n\n18:00\n\n\n\n	\n				\n				\n				\n						\n					\n			\n						\n				\n									\n					\n						\n									Enviar email\n					\n					\n				\n								\n				\n					\n		\n				\n			\n						\n				\n									\n					\n						\n									Inscripción\n					\n					\n				\n								\n				\n					\n		\n					\n		\n					\n		\n				\n			\n						\n				\n					\n	\n				\n				\n					\n		\n					\n		\n					\n		\n					\n		\n				\n						\n					\n			\n						\n				\n					Reuniones individuales con delegados AREX:				\n				\n				\n				\n					República Dominicana				\n				\n				\n				\n					Asesoramiento gratuito para empresas aragonesas que ya venden enen mercado dominicano o están interesadas en abrirlo.				\n				\n				\n						\n					\n			\n						\n				\n																														\n				\n					\n		\n				\n			\n						\n				\n					Experto AREX:				\n				\n				\n				\n					Jorge Méndez				\n				\n				\n				\n									CEO de Global Caribe 								\n				\n				\n				\n									\n					\n						\n						\n							\n									Concierta tu reunión\n					\n					\n				\n								\n				\n					\n		\n					\n		\n				\n				\n					Infórmate de primera mano sobre los mercados internacionales con los expertos AREX
URL:https://www.aragonexterior.es/event/reuniones-individuales-caribe-anglofono/
CATEGORIES:Reuniones con Expertos
ATTACH;FMTTYPE=image/png:https://www.aragonexterior.es/wp-content/uploads/2024/06/IMAGEN-DESTACADA-19.png
ORGANIZER;CN="Katharina Mormann":MAILTO:km@aragonexterior.es
END:VEVENT
END:VCALENDAR