BEGIN:VCALENDAR
VERSION:2.0
PRODID:-//AREX - ECPv6.15.18//NONSGML v1.0//EN
CALSCALE:GREGORIAN
METHOD:PUBLISH
X-ORIGINAL-URL:https://www.aragonexterior.es
X-WR-CALDESC:Eventos para AREX
REFRESH-INTERVAL;VALUE=DURATION:PT1H
X-Robots-Tag:noindex
X-PUBLISHED-TTL:PT1H
BEGIN:VTIMEZONE
TZID:Europe/Madrid
BEGIN:DAYLIGHT
TZOFFSETFROM:+0100
TZOFFSETTO:+0200
TZNAME:CEST
DTSTART:20200329T010000
END:DAYLIGHT
BEGIN:STANDARD
TZOFFSETFROM:+0200
TZOFFSETTO:+0100
TZNAME:CET
DTSTART:20201025T010000
END:STANDARD
BEGIN:DAYLIGHT
TZOFFSETFROM:+0100
TZOFFSETTO:+0200
TZNAME:CEST
DTSTART:20210328T010000
END:DAYLIGHT
BEGIN:STANDARD
TZOFFSETFROM:+0200
TZOFFSETTO:+0100
TZNAME:CET
DTSTART:20211031T010000
END:STANDARD
BEGIN:DAYLIGHT
TZOFFSETFROM:+0100
TZOFFSETTO:+0200
TZNAME:CEST
DTSTART:20220327T010000
END:DAYLIGHT
BEGIN:STANDARD
TZOFFSETFROM:+0200
TZOFFSETTO:+0100
TZNAME:CET
DTSTART:20221030T010000
END:STANDARD
END:VTIMEZONE
BEGIN:VEVENT
DTSTART;VALUE=DATE:20211020
DTEND;VALUE=DATE:20211030
DTSTAMP:20260422T085925
CREATED:20231120T131022Z
LAST-MODIFIED:20231124T095448Z
UID:10000124-1634688000-1635551999@www.aragonexterior.es
SUMMARY:Curso Intensivo Amazon Despega
DESCRIPTION:< Volver al calendario de actividades				\n				\n					\n		\n					\n		\n				\n						\n					\n			\n						\n						\n					\n			\n						\n				\n					\n	\n		\n\n				Misión Inversa Alimentaria 2026	\n\n\n		\n	\n		Misión Comercial a Angola			\n\n	\n\n				\n				\n					\n		\n					\n		\n					\n		\n					\n		\n				\n						\n					\n			\n						\n						\n					\n			\n						\n				\n					\n		\n		Reuniones con Expertos	\n\n				\n				\n				\n				\n					\n	Reuniones individuales: Países Nórdicos				\n				\n				\n				\n					Experto AREX:				\n				\n				\n				\n					\nDavid González\, Director en Business Spain				\n				\n				\n				\n					Lugar:				\n				\n				\n				\n					Oficinas AREX\, Zaragoza				\n				\n				\n				\n					Fechas:				\n				\n				\n				\n					\n		\n			25/03\n\n	\n\n	  @  \n\n\n09:00\n\n		\n\n\n\n	\n	  -  \n\n15:00\n\n\n\n	\n				\n				\n				\n						\n					\n			\n						\n				\n									\n					\n						\n									Enviar email\n					\n					\n				\n								\n				\n					\n		\n				\n			\n						\n				\n									\n					\n						\n									Inscripción\n					\n					\n				\n								\n				\n					\n		\n					\n		\n					\n		\n				\n			\n						\n				\n					\n	\n				\n				\n					\n		\n					\n		\n					\n		\n					\n		\n				\n						\n					\n			\n						\n				\n					Reuniones individuales con delegados AREX:				\n				\n				\n				\n					Países Nórdicos				\n				\n				\n				\n					Asesoramiento gratuito para empresas aragonesas que ya venden en alguno de los mercados nórdicos o están interesadas en abrirlo.				\n				\n				\n				\n							\n			\n						\n		\n						\n				\n				\n				\n									Los países nórdicos\, como Suecia y Dinamarca\, lideran en Europa ámbitos estratégicos como sostenibilidad\, innovación industrial\, digitalización y transición energética. Existe una demanda estable de proveedores internacionales en sectores como renovables\, tecnologías ambientales\, eficiencia productiva\, automatización y soluciones industriales avanzadas.Se trata de un mercado maduro y profesionalizado\, con marcos regulatorios sólidos\, políticas públicas activas e incentivos que facilitan el acceso a licitaciones\, proyectos colaborativos y acuerdos industriales a medio y largo plazo. 								\n				\n				\n						\n					\n			\n						\n				\n																														\n				\n					\n		\n				\n			\n						\n				\n					Experto AREX:				\n				\n				\n				\n					David González Pablos				\n				\n				\n				\n									Director de Business Spain 								\n				\n				\n				\n									\n					\n						\n						\n							\n									Concierta tu reunión\n					\n					\n				\n								\n				\n					\n		\n					\n		\n				\n				\n					Infórmate de primera mano sobre los mercados internacionales con los expertos AREX
URL:https://www.aragonexterior.es/event/curso-intensivo-amazon-despega/
CATEGORIES:Webinar
END:VEVENT
END:VCALENDAR